BEGIN:VCALENDAR
VERSION:2.0
PRODID:-//Donnington Parish Council//Meeting Calendar//EN
CALSCALE:GREGORIAN
METHOD:PUBLISH
BEGIN:VEVENT
UID:70652-20230313@donningtonparishcouncil.gov.uk
DTSTAMP:20260419T122642Z
DTSTART;VALUE=DATE:20230313
DTEND;VALUE=DATE:20230314
SUMMARY:Annual Council Meeting &#8211\\; 13th March 2023
DESCRIPTION:Full Council Meeting\nView details: https://donningtonparishcouncil.gov.uk/meetings/annual-council-meeting-13th-march-2023/
URL:https://donningtonparishcouncil.gov.uk/meetings/annual-council-meeting-13th-march-2023/
END:VEVENT
END:VCALENDAR
