BEGIN:VCALENDAR
VERSION:2.0
PRODID:-//Donnington Parish Council//Meeting Calendar//EN
CALSCALE:GREGORIAN
METHOD:PUBLISH
BEGIN:VEVENT
UID:70549-20220101@donningtonparishcouncil.gov.uk
DTSTAMP:20260419T122922Z
DTSTART;VALUE=DATE:20220101
DTEND;VALUE=DATE:20220102
SUMMARY:Council Meetings &#8211\\; 2022
DESCRIPTION:Planning Committee Meeting\nView details: https://donningtonparishcouncil.gov.uk/meetings/council-meetings-2022-2/
URL:https://donningtonparishcouncil.gov.uk/meetings/council-meetings-2022-2/
END:VEVENT
END:VCALENDAR
