BEGIN:VCALENDAR
VERSION:2.0
PRODID:-//Donnington Parish Council//Meeting Calendar//EN
CALSCALE:GREGORIAN
METHOD:PUBLISH
BEGIN:VEVENT
UID:70533-20230101@donningtonparishcouncil.gov.uk
DTSTAMP:20260419T122641Z
DTSTART;VALUE=DATE:20230101
DTEND;VALUE=DATE:20230102
SUMMARY:Council Meetings &#8211\\; 2023
DESCRIPTION:Planning Committee Meeting\nView details: https://donningtonparishcouncil.gov.uk/meetings/council-meetings-2023-2/
URL:https://donningtonparishcouncil.gov.uk/meetings/council-meetings-2023-2/
END:VEVENT
END:VCALENDAR
