BEGIN:VCALENDAR
VERSION:2.0
PRODID:-//Donnington Parish Council//Meeting Calendar//EN
CALSCALE:GREGORIAN
METHOD:PUBLISH
BEGIN:VEVENT
UID:70508-20240101@donningtonparishcouncil.gov.uk
DTSTAMP:20260419T122641Z
DTSTART;VALUE=DATE:20240101
DTEND;VALUE=DATE:20240102
SUMMARY:Council Meetings &#8211\\; 2024
DESCRIPTION:Planning Committee Meeting\nView details: https://donningtonparishcouncil.gov.uk/meetings/council-meetings-2024-2/
URL:https://donningtonparishcouncil.gov.uk/meetings/council-meetings-2024-2/
END:VEVENT
END:VCALENDAR
