BEGIN:VCALENDAR
VERSION:2.0
PRODID:-//Donnington Parish Council//Meeting Calendar//EN
CALSCALE:GREGORIAN
METHOD:PUBLISH
BEGIN:VEVENT
UID:70486-20250428@donningtonparishcouncil.gov.uk
DTSTAMP:20260419T123808Z
DTSTART;VALUE=DATE:20250428
DTEND;VALUE=DATE:20250429
SUMMARY:Council Meeting &#8211\\; 28th April 2025
DESCRIPTION:Planning Committee Meeting\nView details: https://donningtonparishcouncil.gov.uk/meetings/council-meeting-28th-april-2025/
URL:https://donningtonparishcouncil.gov.uk/meetings/council-meeting-28th-april-2025/
END:VEVENT
END:VCALENDAR
