BEGIN:VCALENDAR
VERSION:2.0
PRODID:-//Donnington Parish Council//Meeting Calendar//EN
CALSCALE:GREGORIAN
METHOD:PUBLISH
BEGIN:VEVENT
UID:70483-20250512@donningtonparishcouncil.gov.uk
DTSTAMP:20260419T142649Z
DTSTART;VALUE=DATE:20250512
DTEND;VALUE=DATE:20250513
SUMMARY:Council Meeting &#8211\\; 12th May 2025
DESCRIPTION:Planning Committee Meeting\nView details: https://donningtonparishcouncil.gov.uk/meetings/council-meeting-12th-may-2025/
URL:https://donningtonparishcouncil.gov.uk/meetings/council-meeting-12th-may-2025/
END:VEVENT
END:VCALENDAR
