BEGIN:VCALENDAR
VERSION:2.0
PRODID:-//Donnington Parish Council//Meeting Calendar//EN
CALSCALE:GREGORIAN
METHOD:PUBLISH
BEGIN:VEVENT
UID:70469-20250811@donningtonparishcouncil.gov.uk
DTSTAMP:20260419T142311Z
DTSTART;VALUE=DATE:20250811
DTEND;VALUE=DATE:20250812
SUMMARY:Council Meeting &#8211\\; 11th August 2025
DESCRIPTION:Planning Committee Meeting\nView details: https://donningtonparishcouncil.gov.uk/meetings/council-meeting-11th-august-2025-2/
URL:https://donningtonparishcouncil.gov.uk/meetings/council-meeting-11th-august-2025-2/
END:VEVENT
END:VCALENDAR
